BEGIN:VCALENDAR
VERSION:2.0
PRODID:-//Sveriges interreligiösa råd - ECPv6.15.20//NONSGML v1.0//EN
CALSCALE:GREGORIAN
METHOD:PUBLISH
X-WR-CALNAME:Sveriges interreligiösa råd
X-ORIGINAL-URL:https://interreligiosaradet.se
X-WR-CALDESC:Händelser för Sveriges interreligiösa råd
REFRESH-INTERVAL;VALUE=DURATION:PT1H
X-Robots-Tag:noindex
X-PUBLISHED-TTL:PT1H
BEGIN:VTIMEZONE
TZID:Europe/Stockholm
BEGIN:DAYLIGHT
TZOFFSETFROM:+0100
TZOFFSETTO:+0200
TZNAME:CEST
DTSTART:20240331T010000
END:DAYLIGHT
BEGIN:STANDARD
TZOFFSETFROM:+0200
TZOFFSETTO:+0100
TZNAME:CET
DTSTART:20241027T010000
END:STANDARD
BEGIN:DAYLIGHT
TZOFFSETFROM:+0100
TZOFFSETTO:+0200
TZNAME:CEST
DTSTART:20250330T010000
END:DAYLIGHT
BEGIN:STANDARD
TZOFFSETFROM:+0200
TZOFFSETTO:+0100
TZNAME:CET
DTSTART:20251026T010000
END:STANDARD
BEGIN:DAYLIGHT
TZOFFSETFROM:+0100
TZOFFSETTO:+0200
TZNAME:CEST
DTSTART:20260329T010000
END:DAYLIGHT
BEGIN:STANDARD
TZOFFSETFROM:+0200
TZOFFSETTO:+0100
TZNAME:CET
DTSTART:20261025T010000
END:STANDARD
END:VTIMEZONE
BEGIN:VEVENT
DTSTART;TZID=Europe/Stockholm:20250507T173000
DTEND;TZID=Europe/Stockholm:20250507T190000
DTSTAMP:20260421T155043
CREATED:20250525T102043Z
LAST-MODIFIED:20250608T084532Z
UID:2976-1746639000-1746644400@interreligiosaradet.se
SUMMARY:Hur kan vi bli ännu bättre på interreligiös dialog? Och varför är det viktigt?
DESCRIPTION:Sveriges interreligiösa råd bjuder tillsammans med Interreligiösa rådet i Stockholm (IRiS) in till ett samtal med Catherine Cornille\, professor vid Boston College i USA och en av världens ledande forskare inom religionsdialog och jämförande teologi. Cornille kommer till Sverige i maj för detta samtal.\n\n\nCornille blev 2022 hedersdoktor vid Teologiska fakulteten vid Oslo universitet. I motiveringen framhålls att ”She shows how exactly religion can contribute locally and globally to increased understanding and cooperation between people and cultures. Not least\, her emphasis on women’s perspectives in religious theology and dialogue is very significant”. Hennes fokus har särskilt varit på relationen mellan asiatiska religioner och kristendom\, samt interreligiösa perspektiv på hinduism\, buddhism och islam. Läs mer här. \nCatherine Cornille är inbjuden till Sverige av Familjen Robert Weils stiftelse och Judiska muséet\, i samarbete med Svenska kyrkan\, Sensus och Religionsvetenskapliga sällskapet. \nSamtalet hålls på engelska. \nDatum och tid: Onsdag 7 maj\, kl. 17:30-19:00Plats: Sensus Medborgarplatsen\, Stockholm\nAnmälan: Anmäl dig här >> \n\n\nVälkomna till ett viktigt samtal om religionens roll i dagens samhälle!
URL:https://interreligiosaradet.se/event/hur-kan-vi-bli-annu-battre-pa-interreligios-dialog-och-varfor-ar-det-viktigt/
CATEGORIES:Projekt Tillit
END:VEVENT
END:VCALENDAR