BEGIN:VCALENDAR
VERSION:2.0
PRODID:-//Sveriges interreligiösa råd - ECPv6.15.20//NONSGML v1.0//EN
CALSCALE:GREGORIAN
METHOD:PUBLISH
X-ORIGINAL-URL:https://interreligiosaradet.se
X-WR-CALDESC:Händelser för Sveriges interreligiösa råd
REFRESH-INTERVAL;VALUE=DURATION:PT1H
X-Robots-Tag:noindex
X-PUBLISHED-TTL:PT1H
BEGIN:VTIMEZONE
TZID:Europe/Stockholm
BEGIN:DAYLIGHT
TZOFFSETFROM:+0100
TZOFFSETTO:+0200
TZNAME:CEST
DTSTART:20240331T010000
END:DAYLIGHT
BEGIN:STANDARD
TZOFFSETFROM:+0200
TZOFFSETTO:+0100
TZNAME:CET
DTSTART:20241027T010000
END:STANDARD
BEGIN:DAYLIGHT
TZOFFSETFROM:+0100
TZOFFSETTO:+0200
TZNAME:CEST
DTSTART:20250330T010000
END:DAYLIGHT
BEGIN:STANDARD
TZOFFSETFROM:+0200
TZOFFSETTO:+0100
TZNAME:CET
DTSTART:20251026T010000
END:STANDARD
BEGIN:DAYLIGHT
TZOFFSETFROM:+0100
TZOFFSETTO:+0200
TZNAME:CEST
DTSTART:20260329T010000
END:DAYLIGHT
BEGIN:STANDARD
TZOFFSETFROM:+0200
TZOFFSETTO:+0100
TZNAME:CET
DTSTART:20261025T010000
END:STANDARD
END:VTIMEZONE
BEGIN:VEVENT
DTSTART;VALUE=DATE:20250614
DTEND;VALUE=DATE:20250616
DTSTAMP:20260421T123314
CREATED:20250526T134209Z
LAST-MODIFIED:20250618T131307Z
UID:3007-1749859200-1750031999@interreligiosaradet.se
SUMMARY:Ledarskapsutbildning för kvinnor inom olika trossamfund
DESCRIPTION:14-15 juni\, Sigtuna\nSveriges Interreligiösa Råd bjuder tillsammans med Myndigheten för stöd till trossamfund (SST) in till en en inspirationshelg för kvinnliga ledare från olika trossamfund – med fokus på interreligiöst ledarskap\, gemensamt lärande och långsiktig samverkan. Bakom satsningen står Javeria Rizvi Kabani\, utbildningsansvarig på SIR\, som projekt- och processledare.\n\nEvenemanget riktar sig till alumner från SST:s tidigare program Delaktig\, Synlig\, Stark och ger deltagarna möjlighet att fördjupa sin ledarskapsförmåga och stärka sina nätverk genom föreläsningar\, reflektioner\, workshops och erfarenhetsutbyte. Helgens teman kretsar kring psykologisk trygghet\, könsrelaterade maktstrukturer i trossamfund\, bemötande av diskriminering och storytelling som förändringsverktyg.\n\nBland talarna finns:\nMaria Kjellsdotter Rydinger\, verksamhetschef SIR\, religionsvetare och tidigare domkyrkokaplan\nGufran Al-Nadaf\, ambassadör för interreligiösa frågor vid Utrikesdepartementet\nFrida Roberts\, ordförande för Somaya kvinnojour\n\nHelgen kulminerar i ett visionssamtal om framtidens interreligiösa kvinnliga ledarskap och nya vägar till samverkan över samfundsgränser.\nInspirationshelgen syftar till att lägga en grund för ett långsiktigt nätverk av kvinnliga ledare som tillsammans kan driva förändring i och mellan trossamfund.
URL:https://interreligiosaradet.se/event/ledarskapsutbildning-for-kvinnor-inom-olika-trossamfund/
CATEGORIES:Projekt Tillit
ATTACH;FMTTYPE=image/jpeg:https://interreligiosaradet.se/wp-content/uploads/2025/05/14-15juni.jpg
END:VEVENT
END:VCALENDAR